BEGIN:VCALENDAR
VERSION:2.0
PRODID:-//MAX SCHMIDT MADMAX - ECPv5.0.1//NONSGML v1.0//EN
CALSCALE:GREGORIAN
METHOD:PUBLISH
X-WR-CALNAME:MAX SCHMIDT MADMAX
X-ORIGINAL-URL:https://max-schmidt-racing.de
X-WR-CALDESC:Veranstaltungen im MAX SCHMIDT MADMAX
BEGIN:VTIMEZONE
TZID:Europe/Berlin
BEGIN:DAYLIGHT
TZOFFSETFROM:+0100
TZOFFSETTO:+0200
TZNAME:CEST
DTSTART:20230326T010000
END:DAYLIGHT
BEGIN:STANDARD
TZOFFSETFROM:+0200
TZOFFSETTO:+0100
TZNAME:CET
DTSTART:20231029T010000
END:STANDARD
END:VTIMEZONE
BEGIN:VEVENT
DTSTART;TZID=Europe/Berlin:20231212T080000
DTEND;TZID=Europe/Berlin:20231212T170000
DTSTAMP:20260420T101237
CREATED:20231212T212831Z
LAST-MODIFIED:20231212T212831Z
UID:1151-1702368000-1702400400@max-schmidt-racing.de
SUMMARY:TT Circuit Assen (NL) 2024
DESCRIPTION:Streckenart: permanente Rennstrecke\nEröffnung: 1955\nLänge: 4542 m\nRechtskurven: 12\nLinkskurven: 6\nBesonderheiten: Der offizielle Name der Strecke ist TT Circuit Assen. Die Buchstaben TT stehen für Tourist Trophy und sind von den berühmten TT-Rennen auf der Isle of Man abgeleitet. Das Gelände des TT Circuit ist etwa 130 Hektar groß. Die Strecke wurde speziell für Motorradrennen konzipiert\, hat einen sehr flüssigen Verlauf und eine abwechslungsreiche Mischung aus schnellen und langsamen Passagen. Eine spektakuläre Kurve befindet sich vor Start-Ziel. Dazu kommt eine 1.-Gang-Kurve. \nFoto: Damon Teerink \n
URL:https://max-schmidt-racing.de/event/tt-circuit-assen-nl-2024/
END:VEVENT
END:VCALENDAR