BEGIN:VCALENDAR
VERSION:2.0
PRODID:-//MAX SCHMIDT MADMAX - ECPv5.0.1//NONSGML v1.0//EN
CALSCALE:GREGORIAN
METHOD:PUBLISH
X-WR-CALNAME:MAX SCHMIDT MADMAX
X-ORIGINAL-URL:https://max-schmidt-racing.de
X-WR-CALDESC:Veranstaltungen im MAX SCHMIDT MADMAX
BEGIN:VTIMEZONE
TZID:Europe/Berlin
BEGIN:DAYLIGHT
TZOFFSETFROM:+0100
TZOFFSETTO:+0200
TZNAME:CEST
DTSTART:20230326T010000
END:DAYLIGHT
BEGIN:STANDARD
TZOFFSETFROM:+0200
TZOFFSETTO:+0100
TZNAME:CET
DTSTART:20231029T010000
END:STANDARD
END:VTIMEZONE
BEGIN:VEVENT
DTSTART;VALUE=DATE:20230721
DTEND;VALUE=DATE:20230724
DTSTAMP:20260420T084357
CREATED:20230121T150952Z
LAST-MODIFIED:20230121T210141Z
UID:1035-1689897600-1690156799@max-schmidt-racing.de
SUMMARY:Schleizer Dreieck 2023
DESCRIPTION:Streckenart: temporäre Rennstrecke\nEröffnung: 1923\nLänge: 3805 m\nRechtskurven: 5\nLinkskurven: 9\nBesonderheiten: Der Kurs ist die älteste Naturrennstrecke Deutschlands\, eingebettet in eine herrliche Landschaft. Das Schleizer Dreieck ist anders als alle anderen Strecken und bietet Natur pur. So befindet sich das Fahrerlager auch größtenteils auf der grünen Wiese. Der Rennverkehr führt über öffentliche Straßen\, die für die jeweiligen Veranstaltungen abgesperrt werden. Der Streckenverlauf wurde schon mehrfach geändert\, um den Kurs zu entschärfen. Die Sicherheit ist dank Kiesbetten und Auslaufzonen erheblich gestiegen. Die IDM gilt als Highlight im Terminkalender auf dem Schleizer Dreieck. \n  \n
URL:https://max-schmidt-racing.de/event/schleizer-dreieck-2022-2/
LOCATION:Schleizer Dreieck\, Am Stadtweg 17\, Schleiz\, 07907\, Deutschland
ATTACH;FMTTYPE=image/jpeg:https://max-schmidt-racing.de/wp-content/uploads/2023/01/Schleizer-Dreieck.jpg
END:VEVENT
END:VCALENDAR