BEGIN:VCALENDAR
VERSION:2.0
PRODID:-//MAX SCHMIDT MADMAX - ECPv5.0.1//NONSGML v1.0//EN
CALSCALE:GREGORIAN
METHOD:PUBLISH
X-WR-CALNAME:MAX SCHMIDT MADMAX
X-ORIGINAL-URL:https://max-schmidt-racing.de
X-WR-CALDESC:Veranstaltungen im MAX SCHMIDT MADMAX
BEGIN:VTIMEZONE
TZID:Europe/Berlin
BEGIN:DAYLIGHT
TZOFFSETFROM:+0100
TZOFFSETTO:+0200
TZNAME:CEST
DTSTART:20250330T010000
END:DAYLIGHT
BEGIN:STANDARD
TZOFFSETFROM:+0200
TZOFFSETTO:+0100
TZNAME:CET
DTSTART:20251026T010000
END:STANDARD
END:VTIMEZONE
BEGIN:VEVENT
DTSTART;VALUE=DATE:20250905
DTEND;VALUE=DATE:20250908
DTSTAMP:20260424T082054
CREATED:20241113T190107Z
LAST-MODIFIED:20241113T190246Z
UID:1200-1757030400-1757289599@max-schmidt-racing.de
SUMMARY:Nürburgring 2025
DESCRIPTION:Streckenart: permanente Rennstrecke\nEröffnung: 18. Juni 1927 Grand Prix Variante seit 2002\nLänge: 3629 m\nRechtskurven: 10\nLinkskurven: 7 \nBesonderheiten:                                                                                                                                                        Der Nürburgring ist als eine der traditionsreichsten\, längsten\, anspruchsvollsten und meist befahrenen Rennstrecken der Welt\, eine Legende. Der Asphalt ist top und die Strecke bietet auch im Regen Grip\, was bei den Wetterkapriolen in der Region durchaus Sinn macht. Der Nürburgring war jahrelang Austragungsort der Motorrad-Weltmeisterschaft. \n
URL:https://max-schmidt-racing.de/event/nuerburgring-2025/
LOCATION:Nürburgring\, Otto-Flimm-Straße\, Nürburg\, 53520\, Deutschland
END:VEVENT
END:VCALENDAR