BEGIN:VCALENDAR
VERSION:2.0
PRODID:-//MAX SCHMIDT MADMAX - ECPv5.0.1//NONSGML v1.0//EN
CALSCALE:GREGORIAN
METHOD:PUBLISH
X-WR-CALNAME:MAX SCHMIDT MADMAX
X-ORIGINAL-URL:https://max-schmidt-racing.de
X-WR-CALDESC:Veranstaltungen im MAX SCHMIDT MADMAX
BEGIN:VTIMEZONE
TZID:Europe/Berlin
BEGIN:DAYLIGHT
TZOFFSETFROM:+0100
TZOFFSETTO:+0200
TZNAME:CEST
DTSTART:20200329T010000
END:DAYLIGHT
BEGIN:STANDARD
TZOFFSETFROM:+0200
TZOFFSETTO:+0100
TZNAME:CET
DTSTART:20201025T010000
END:STANDARD
END:VTIMEZONE
BEGIN:VEVENT
DTSTART;VALUE=DATE:20200911
DTEND;VALUE=DATE:20200914
DTSTAMP:20260424T081728
CREATED:20200814T205411Z
LAST-MODIFIED:20200814T205411Z
UID:729-1599782400-1600041599@max-schmidt-racing.de
SUMMARY:Lausitzring
DESCRIPTION: \n  \nStreckenart: permanente Rennstrecke\nEröffnung: 20. August 2000\nLänge: 4255 m\nRechtskurven: 5\nLinkskurven: 8\nBesonderheiten:                                                                                                                                                        technisch und körperlich sehr anspruchsvoll Strecke / flüssige Kurven folgen auf knackige Ecken welliger und trickreicher Linkskurs \n
URL:https://max-schmidt-racing.de/event/lausitzring-3/
LOCATION:Lausitzring\, Lausitzallee 1\, Schipkau\, 01998\, Deutschland
ORGANIZER;CN="PS%20Track%20Events":MAILTO:info@ps-track-events.de
END:VEVENT
END:VCALENDAR